BEGIN:VCALENDAR
VERSION:2.0
PRODID:-//The Church in Coquitlam - ECPv6.15.11//NONSGML v1.0//EN
CALSCALE:GREGORIAN
METHOD:PUBLISH
X-WR-CALNAME:The Church in Coquitlam
X-ORIGINAL-URL:https://thechurchincoquitlam.org
X-WR-CALDESC:Events for The Church in Coquitlam
REFRESH-INTERVAL;VALUE=DURATION:PT1H
X-Robots-Tag:noindex
X-PUBLISHED-TTL:PT1H
BEGIN:VTIMEZONE
TZID:UTC
BEGIN:STANDARD
TZOFFSETFROM:+0000
TZOFFSETTO:+0000
TZNAME:UTC
DTSTART:20250101T000000
END:STANDARD
END:VTIMEZONE
BEGIN:VEVENT
DTSTART;TZID=UTC:20260629T080000
DTEND;TZID=UTC:20260704T170000
DTSTAMP:20260422T221224
CREATED:20251110T050238Z
LAST-MODIFIED:20251110T050238Z
UID:2000-1782720000-1783184400@thechurchincoquitlam.org
SUMMARY:July Semiannual Training
DESCRIPTION:
URL:https://thechurchincoquitlam.org/event/july-semiannual-training/
LOCATION:Anaheim\, CA
ATTACH;FMTTYPE=image/jpeg:https://thechurchincoquitlam.org/wp-content/uploads/2024/11/blog_dms-bg.jpg
END:VEVENT
END:VCALENDAR