BEGIN:VCALENDAR
VERSION:2.0
PRODID:-//The Church in Coquitlam - ECPv6.15.11//NONSGML v1.0//EN
CALSCALE:GREGORIAN
METHOD:PUBLISH
X-ORIGINAL-URL:https://thechurchincoquitlam.org
X-WR-CALDESC:Events for The Church in Coquitlam
REFRESH-INTERVAL;VALUE=DURATION:PT1H
X-Robots-Tag:noindex
X-PUBLISHED-TTL:PT1H
BEGIN:VTIMEZONE
TZID:UTC
BEGIN:STANDARD
TZOFFSETFROM:+0000
TZOFFSETTO:+0000
TZNAME:UTC
DTSTART:20240101T000000
END:STANDARD
END:VTIMEZONE
BEGIN:VEVENT
DTSTART;VALUE=DATE:20251127
DTEND;VALUE=DATE:20251201
DTSTAMP:20260422T205848
CREATED:20251021T210548Z
LAST-MODIFIED:20251021T210548Z
UID:1970-1764201600-1764547199@thechurchincoquitlam.org
SUMMARY:International Thanksgiving Blending Conference
DESCRIPTION:2025 – International Thanksgiving Blending Conference
URL:https://thechurchincoquitlam.org/event/international-thanksgiving-blending-conference/
ATTACH;FMTTYPE=image/jpeg:https://thechurchincoquitlam.org/wp-content/uploads/2024/11/blog_dms-bg.jpg
END:VEVENT
BEGIN:VEVENT
DTSTART;VALUE=DATE:20251222
DTEND;VALUE=DATE:20251228
DTSTAMP:20260422T205848
CREATED:20251021T210443Z
LAST-MODIFIED:20251021T210443Z
UID:1968-1766361600-1766879999@thechurchincoquitlam.org
SUMMARY:December Semi-annual Training
DESCRIPTION:2025 December Semi-annual Training
URL:https://thechurchincoquitlam.org/event/december-semi-annual-training/
ATTACH;FMTTYPE=image/jpeg:https://thechurchincoquitlam.org/wp-content/uploads/2024/11/blog_dms-bg.jpg
END:VEVENT
BEGIN:VEVENT
DTSTART;TZID=UTC:20260213T080000
DTEND;TZID=UTC:20260215T170000
DTSTAMP:20260422T205848
CREATED:20251110T045410Z
LAST-MODIFIED:20251110T045410Z
UID:1993-1770969600-1771174800@thechurchincoquitlam.org
SUMMARY:International Chinese Speaking Conference
DESCRIPTION:
URL:https://thechurchincoquitlam.org/event/international-chinese-speaking-conference/
LOCATION:Anaheim\, CA
ATTACH;FMTTYPE=image/jpeg:https://thechurchincoquitlam.org/wp-content/uploads/2024/11/blog_dms-bg.jpg
END:VEVENT
BEGIN:VEVENT
DTSTART;TZID=UTC:20260320T080000
DTEND;TZID=UTC:20260322T170000
DTSTAMP:20260422T205848
CREATED:20251110T045905Z
LAST-MODIFIED:20251110T045905Z
UID:1996-1773993600-1774198800@thechurchincoquitlam.org
SUMMARY:International Training for Elders and Responsible Ones
DESCRIPTION:
URL:https://thechurchincoquitlam.org/event/international-training-for-elders-and-responsible-ones/
LOCATION:Anaheim\, CA
ATTACH;FMTTYPE=image/jpeg:https://thechurchincoquitlam.org/wp-content/uploads/2024/11/blog_dms-bg.jpg
END:VEVENT
BEGIN:VEVENT
DTSTART;TZID=UTC:20260522T080000
DTEND;TZID=UTC:20260525T170000
DTSTAMP:20260422T205848
CREATED:20251110T050117Z
LAST-MODIFIED:20251110T050117Z
UID:1998-1779436800-1779728400@thechurchincoquitlam.org
SUMMARY:International Memorial Day Blending Conference
DESCRIPTION:
URL:https://thechurchincoquitlam.org/event/international-memorial-day-blending-conference/
LOCATION:Dallas\, TX
ATTACH;FMTTYPE=image/jpeg:https://thechurchincoquitlam.org/wp-content/uploads/2024/11/blog_dms-bg.jpg
END:VEVENT
BEGIN:VEVENT
DTSTART;TZID=UTC:20260629T080000
DTEND;TZID=UTC:20260704T170000
DTSTAMP:20260422T205848
CREATED:20251110T050238Z
LAST-MODIFIED:20251110T050238Z
UID:2000-1782720000-1783184400@thechurchincoquitlam.org
SUMMARY:July Semiannual Training
DESCRIPTION:
URL:https://thechurchincoquitlam.org/event/july-semiannual-training/
LOCATION:Anaheim\, CA
ATTACH;FMTTYPE=image/jpeg:https://thechurchincoquitlam.org/wp-content/uploads/2024/11/blog_dms-bg.jpg
END:VEVENT
END:VCALENDAR